BEGIN:VCALENDAR
VERSION:2.0
PRODID:-//Carmody Law - ECPv6.15.20//NONSGML v1.0//EN
CALSCALE:GREGORIAN
METHOD:PUBLISH
X-WR-CALNAME:Carmody Law
X-ORIGINAL-URL:https://www.carmodylaw.com
X-WR-CALDESC:Events for Carmody Law
REFRESH-INTERVAL;VALUE=DURATION:PT1H
X-Robots-Tag:noindex
X-PUBLISHED-TTL:PT1H
BEGIN:VTIMEZONE
TZID:America/New_York
BEGIN:DAYLIGHT
TZOFFSETFROM:-0500
TZOFFSETTO:-0400
TZNAME:EDT
DTSTART:20180311T070000
END:DAYLIGHT
BEGIN:STANDARD
TZOFFSETFROM:-0400
TZOFFSETTO:-0500
TZNAME:EST
DTSTART:20181104T060000
END:STANDARD
BEGIN:DAYLIGHT
TZOFFSETFROM:-0500
TZOFFSETTO:-0400
TZNAME:EDT
DTSTART:20190310T070000
END:DAYLIGHT
BEGIN:STANDARD
TZOFFSETFROM:-0400
TZOFFSETTO:-0500
TZNAME:EST
DTSTART:20191103T060000
END:STANDARD
BEGIN:DAYLIGHT
TZOFFSETFROM:-0500
TZOFFSETTO:-0400
TZNAME:EDT
DTSTART:20200308T070000
END:DAYLIGHT
BEGIN:STANDARD
TZOFFSETFROM:-0400
TZOFFSETTO:-0500
TZNAME:EST
DTSTART:20201101T060000
END:STANDARD
BEGIN:DAYLIGHT
TZOFFSETFROM:-0500
TZOFFSETTO:-0400
TZNAME:EDT
DTSTART:20210314T070000
END:DAYLIGHT
BEGIN:STANDARD
TZOFFSETFROM:-0400
TZOFFSETTO:-0500
TZNAME:EST
DTSTART:20211107T060000
END:STANDARD
BEGIN:DAYLIGHT
TZOFFSETFROM:-0500
TZOFFSETTO:-0400
TZNAME:EDT
DTSTART:20220313T070000
END:DAYLIGHT
BEGIN:STANDARD
TZOFFSETFROM:-0400
TZOFFSETTO:-0500
TZNAME:EST
DTSTART:20221106T060000
END:STANDARD
BEGIN:DAYLIGHT
TZOFFSETFROM:-0500
TZOFFSETTO:-0400
TZNAME:EDT
DTSTART:20230312T070000
END:DAYLIGHT
BEGIN:STANDARD
TZOFFSETFROM:-0400
TZOFFSETTO:-0500
TZNAME:EST
DTSTART:20231105T060000
END:STANDARD
BEGIN:DAYLIGHT
TZOFFSETFROM:-0500
TZOFFSETTO:-0400
TZNAME:EDT
DTSTART:20240310T070000
END:DAYLIGHT
BEGIN:STANDARD
TZOFFSETFROM:-0400
TZOFFSETTO:-0500
TZNAME:EST
DTSTART:20241103T060000
END:STANDARD
BEGIN:DAYLIGHT
TZOFFSETFROM:-0500
TZOFFSETTO:-0400
TZNAME:EDT
DTSTART:20250309T070000
END:DAYLIGHT
BEGIN:STANDARD
TZOFFSETFROM:-0400
TZOFFSETTO:-0500
TZNAME:EST
DTSTART:20251102T060000
END:STANDARD
BEGIN:DAYLIGHT
TZOFFSETFROM:-0500
TZOFFSETTO:-0400
TZNAME:EDT
DTSTART:20260308T070000
END:DAYLIGHT
BEGIN:STANDARD
TZOFFSETFROM:-0400
TZOFFSETTO:-0500
TZNAME:EST
DTSTART:20261101T060000
END:STANDARD
END:VTIMEZONE
BEGIN:VEVENT
DTSTART;TZID=America/New_York:20250415T140000
DTEND;TZID=America/New_York:20250415T150000
DTSTAMP:20260422T041917
CREATED:20250331T152819Z
LAST-MODIFIED:20250331T152819Z
UID:10000422-1744725600-1744729200@www.carmodylaw.com
SUMMARY:Effective and Ethical Management of Client Funds
DESCRIPTION:At this webinar\, Carmody litigator Tom Sansone will offer practical suggestions and strategies for avoiding common ethical pitfalls arising out of the management of clients’ funds.  Learning effective habits for being good fiduciaries when it comes to taking care of clients’ money is critical in the legal profession\, particularly when it comes to the “five commandments” for appropriate management of client funds in your possession.  These strategies and tips are designed to lower the risk of falling into ethical traps and professional liability sinkholes. \nRegister here.
URL:https://www.carmodylaw.com/event/effective-and-ethical-management-of-client-funds/
LOCATION:Virtual
CATEGORIES:Professional Ethics/Grievance
END:VEVENT
BEGIN:VEVENT
DTSTART;TZID=America/New_York:20231006T080000
DTEND;TZID=America/New_York:20231006T170000
DTSTAMP:20260422T041917
CREATED:20231006T154818Z
LAST-MODIFIED:20231006T154818Z
UID:10000384-1696579200-1696611600@www.carmodylaw.com
SUMMARY:Time to Turn Out the Lights? Lawyers’ Ethical Path to Retirement or Closing a Law Firm
DESCRIPTION:Topics: \n\nWhat to do with client files?\nWhere does the excess IOLTA money go?\nSuccession planning for solos and small firms\n\n  \nPresented by Thomas J. Sansone\, Stephen J. Conover\, and Meghan F. Buckley \n  \nProgram- 4:00-5:30 \nReception to follow
URL:https://www.carmodylaw.com/event/time-to-turn-out-the-lights-lawyers-ethical-path-to-retirement-or-closing-a-law-firm-3/
LOCATION:Online
END:VEVENT
BEGIN:VEVENT
DTSTART;TZID=America/New_York:20191204T113000
DTEND;TZID=America/New_York:20191204T130000
DTSTAMP:20260422T041917
CREATED:20191113T193005Z
LAST-MODIFIED:20191113T193005Z
UID:10000138-1575459000-1575464400@www.carmodylaw.com
SUMMARY:The Basics of Bankruptcy
DESCRIPTION:On December 4th\, attorney Tom Sansone will present “The Basics of Bankruptcy” for the New Haven County Bar Association. \nFor more information and to register\, please click here.
URL:https://www.carmodylaw.com/event/the-basics-of-bankruptcy/
LOCATION:Greater New Haven Chamber of Commerce\, 900 Chapel Street\, New Haven\, CT\, 06510\, United States
CATEGORIES:Corporate & Business
END:VEVENT
END:VCALENDAR