BEGIN:VCALENDAR
VERSION:2.0
PRODID:-//Carmody Law - ECPv6.15.20//NONSGML v1.0//EN
CALSCALE:GREGORIAN
METHOD:PUBLISH
X-ORIGINAL-URL:https://www.carmodylaw.com
X-WR-CALDESC:Events for Carmody Law
REFRESH-INTERVAL;VALUE=DURATION:PT1H
X-Robots-Tag:noindex
X-PUBLISHED-TTL:PT1H
BEGIN:VTIMEZONE
TZID:America/New_York
BEGIN:DAYLIGHT
TZOFFSETFROM:-0500
TZOFFSETTO:-0400
TZNAME:EDT
DTSTART:20240310T070000
END:DAYLIGHT
BEGIN:STANDARD
TZOFFSETFROM:-0400
TZOFFSETTO:-0500
TZNAME:EST
DTSTART:20241103T060000
END:STANDARD
BEGIN:DAYLIGHT
TZOFFSETFROM:-0500
TZOFFSETTO:-0400
TZNAME:EDT
DTSTART:20250309T070000
END:DAYLIGHT
BEGIN:STANDARD
TZOFFSETFROM:-0400
TZOFFSETTO:-0500
TZNAME:EST
DTSTART:20251102T060000
END:STANDARD
BEGIN:DAYLIGHT
TZOFFSETFROM:-0500
TZOFFSETTO:-0400
TZNAME:EDT
DTSTART:20260308T070000
END:DAYLIGHT
BEGIN:STANDARD
TZOFFSETFROM:-0400
TZOFFSETTO:-0500
TZNAME:EST
DTSTART:20261101T060000
END:STANDARD
END:VTIMEZONE
BEGIN:VEVENT
DTSTART;TZID=America/New_York:20250430T160000
DTEND;TZID=America/New_York:20250430T173000
DTSTAMP:20260422T085012
CREATED:20250317T154717Z
LAST-MODIFIED:20250317T155120Z
UID:10000420-1746028800-1746034200@www.carmodylaw.com
SUMMARY:CLE Webinar: Retirement! Pros & Cons: Legal Issues
DESCRIPTION:Carmody Professional Ethics & Grievance partner Stephen Conover will present on the advantages and disadvantages of retirement for legal processionals for the Connecticut Trial Lawyers Association. The webinar will cover the decision to fully retire or practice in law beyond “normal” retirement age on a full-time or modified basis\, (e.g. as a Mediator or Arbitrator) as well as the legal procedures to accomplish retirement. \nThis Continuing Legal Education program is appropriate for experienced attorneys\, and has been approved for the following credits in accordance with the rule requirements of these states:\nCT: 1.5 Skills Credit Hours\nNY: 1.5 Skills Credit Hours \nRegister here.
URL:https://www.carmodylaw.com/event/cle-webinar-retirement-pros-cons-legal-issues/
LOCATION:Virtual
CATEGORIES:Professional Ethics/Grievance
ORGANIZER;CN="Connecticut Trial Lawyers Association":MAILTO:info@cttriallawyers.org
END:VEVENT
END:VCALENDAR