BEGIN:VCALENDAR
VERSION:2.0
PRODID:-//Carmody Law - ECPv6.15.20//NONSGML v1.0//EN
CALSCALE:GREGORIAN
METHOD:PUBLISH
X-WR-CALNAME:Carmody Law
X-ORIGINAL-URL:https://www.carmodylaw.com
X-WR-CALDESC:Events for Carmody Law
REFRESH-INTERVAL;VALUE=DURATION:PT1H
X-Robots-Tag:noindex
X-PUBLISHED-TTL:PT1H
BEGIN:VTIMEZONE
TZID:America/New_York
BEGIN:DAYLIGHT
TZOFFSETFROM:-0500
TZOFFSETTO:-0400
TZNAME:EDT
DTSTART:20250309T070000
END:DAYLIGHT
BEGIN:STANDARD
TZOFFSETFROM:-0400
TZOFFSETTO:-0500
TZNAME:EST
DTSTART:20251102T060000
END:STANDARD
BEGIN:DAYLIGHT
TZOFFSETFROM:-0500
TZOFFSETTO:-0400
TZNAME:EDT
DTSTART:20260308T070000
END:DAYLIGHT
BEGIN:STANDARD
TZOFFSETFROM:-0400
TZOFFSETTO:-0500
TZNAME:EST
DTSTART:20261101T060000
END:STANDARD
BEGIN:DAYLIGHT
TZOFFSETFROM:-0500
TZOFFSETTO:-0400
TZNAME:EDT
DTSTART:20270314T070000
END:DAYLIGHT
BEGIN:STANDARD
TZOFFSETFROM:-0400
TZOFFSETTO:-0500
TZNAME:EST
DTSTART:20271107T060000
END:STANDARD
END:VTIMEZONE
BEGIN:VEVENT
DTSTART;TZID=America/New_York:20260514T083000
DTEND;TZID=America/New_York:20260514T100000
DTSTAMP:20260425T125910
CREATED:20260424T140503Z
LAST-MODIFIED:20260424T140938Z
UID:10000445-1778747400-1778752800@www.carmodylaw.com
SUMMARY:Is your business ready for Connecticut’s new AI and Data Privacy rules coming July 1\, 2026?
DESCRIPTION:Join Carmody Data Privacy lawyer Sherwin Yoder for a complimentary briefing on Connecticut’s new Artificial Intelligence and Data Privacy rules coming July 1\, 2026. Last-minute\, little-noticed legislative amendments from the Connecticut 2025 legislative session will have outsized impacts on small and medium-sized Connecticut businesses beginning July 1\, 2026.
URL:https://www.carmodylaw.com/event/connecticuts-new-ai-and-data-privacy-rules-coming-july-1-2026/
LOCATION:Greater New Haven Chamber of Commerce\, 195 Church Street\, New Haven\, CT\, 06510\, United States
CATEGORIES:AI,Privacy & Data Security,Technology & Data Privacy
END:VEVENT
BEGIN:VEVENT
DTSTART;TZID=America/New_York:20260602T090000
DTEND;TZID=America/New_York:20260602T100000
DTSTAMP:20260425T125910
CREATED:20260303T165355Z
LAST-MODIFIED:20260303T165413Z
UID:10000443-1780390800-1780394400@www.carmodylaw.com
SUMMARY:Ethics: The Year in Review
DESCRIPTION:Presented by the Connecticut Bar Association\, Carmody Professional Ethics partner Stephen Conover will discuss recent ethics-related rule changes\, opinions and cases. \nTo register\, click here.
URL:https://www.carmodylaw.com/event/ethics-the-year-in-review-7/
LOCATION:Connecticut Convention Center\, 100 Columbus Blvd\, Hartford\, CT\, United States
CATEGORIES:Professional Ethics/Grievance
END:VEVENT
END:VCALENDAR