BEGIN:VCALENDAR
VERSION:2.0
PRODID:-//Carmody Law - ECPv6.15.20//NONSGML v1.0//EN
CALSCALE:GREGORIAN
METHOD:PUBLISH
X-WR-CALNAME:Carmody Law
X-ORIGINAL-URL:https://www.carmodylaw.com
X-WR-CALDESC:Events for Carmody Law
REFRESH-INTERVAL;VALUE=DURATION:PT1H
X-Robots-Tag:noindex
X-PUBLISHED-TTL:PT1H
BEGIN:VTIMEZONE
TZID:America/New_York
BEGIN:DAYLIGHT
TZOFFSETFROM:-0500
TZOFFSETTO:-0400
TZNAME:EDT
DTSTART:20160313T070000
END:DAYLIGHT
BEGIN:STANDARD
TZOFFSETFROM:-0400
TZOFFSETTO:-0500
TZNAME:EST
DTSTART:20161106T060000
END:STANDARD
BEGIN:DAYLIGHT
TZOFFSETFROM:-0500
TZOFFSETTO:-0400
TZNAME:EDT
DTSTART:20170312T070000
END:DAYLIGHT
BEGIN:STANDARD
TZOFFSETFROM:-0400
TZOFFSETTO:-0500
TZNAME:EST
DTSTART:20171105T060000
END:STANDARD
BEGIN:DAYLIGHT
TZOFFSETFROM:-0500
TZOFFSETTO:-0400
TZNAME:EDT
DTSTART:20180311T070000
END:DAYLIGHT
BEGIN:STANDARD
TZOFFSETFROM:-0400
TZOFFSETTO:-0500
TZNAME:EST
DTSTART:20181104T060000
END:STANDARD
END:VTIMEZONE
BEGIN:VEVENT
DTSTART;TZID=America/New_York:20170330T080000
DTEND;TZID=America/New_York:20170330T100000
DTSTAMP:20260421T061628
CREATED:20180510T235328Z
LAST-MODIFIED:20180510T235328Z
UID:10000008-1490860800-1490868000@www.carmodylaw.com
SUMMARY:What To Do If a Grievance Arrives
DESCRIPTION:THIS PROGRAM QUALIFIES FOR 2 ETHICS & PROFESSIONALISM CREDITS \nAN ETHICS & PROFESSIONALISM COMMITTEE LUNCHEON PROGRAM: \nCO-CHAIRS: Stephen J. Conover & Wendy Prince \nwhat to do if a grievance arrives\nPRESENTED BY: \nEugene Riccio\, Esq. \nYoung & Riccio \nStephen J. Conover\, Esq. \nCarmody Torrance Sandak & Hennessey\, LLP \nTOPICS: \nSpeakers will describe Connecticut’s lawyer disciplinary process and considerations if a grievance complaint arrives.  Among the many questions to be addressed: \n\nfor complaints from clients\, do I still represent the client & what about pending client matters?\nFor complaints from non-clients\, what can I disclose about my client?\nHow should I respond to the accusations in the Grievance Complaint?\n\nAt the office of: Fairfield County Bar Association \n970 Summer Street\, Stamford \nRegistration: Noon to 12:15 pm \nPricing\, including lunch & materials: Members: $50; Non-Members: $75 \n+Reduced Rate FCBA Members: $35 + (Legal Administrators\, Paralegals\, Law Students & Law Clerks) \nreservations made after March 28th will be at the non-member price \nTHE FAIRFIELD COUNTY BAR ASSOCIATION IS AN ACCREDITED PROVIDER FOR NY & CT STATE CLE \nTo register for this event\, click here.
URL:https://www.carmodylaw.com/event/what-to-do-if-a-grievance-arrives/
LOCATION:CT
END:VEVENT
BEGIN:VEVENT
DTSTART;TZID=America/New_York:20170227T190000
DTEND;TZID=America/New_York:20170227T190000
DTSTAMP:20260421T061628
CREATED:20180510T235326Z
LAST-MODIFIED:20180510T235326Z
UID:10000004-1488222000-1488222000@www.carmodylaw.com
SUMMARY:Connecticut Bar Association Ethics Program: Avoiding Discipline & Malpractice
DESCRIPTION:Complying with the CT Rules of Professional Conduct: Avoiding Discipline & Malpractice hosted by the Connecticut Bar Association on February 28\, 2016 at their offices in New Britain\, Connecticut. Please join Attorney Stephen J. Conover as he co-presents on this important ethics program for attorneys. \n  About the Program \nLaw practice in the 21st century is subject to a growing number of ethical and regulatory requirements. This program will offer guidance to the busy practitioner on meeting professional obligations to clients and the public and on minimizing the risks of malpractice and disciplinary complaints. \n  Who Should Attend  \nThis seminar will be of value to any attorney that currently practices\, or is planning to practice\, in Connecticut. \nYou Will Learn  \n\nAbout lawyers' ethical responsibilities in communications\, and in interactions with opposing counsel\nAbout ethical considerations at the beginning of an Attorney-Client relationship\, including engagement agreements\,  conflict issues and representing clients with Impaired Capacity\nAbout how to comply with IOLTA rules\, and about Random Audits\n\n For additional information and to register\, please click here.
URL:https://www.carmodylaw.com/event/connecticut-bar-association-ethics-program-avoiding-discipline-malpractice/
LOCATION:CT
CATEGORIES:Professional Ethics/Grievance
END:VEVENT
BEGIN:VEVENT
DTSTART;TZID=America/New_York:20170222T190000
DTEND;TZID=America/New_York:20170222T190000
DTSTAMP:20260421T061628
CREATED:20180510T235327Z
LAST-MODIFIED:20180510T235327Z
UID:10000006-1487790000-1487790000@www.carmodylaw.com
SUMMARY:Proliferation of Short Term Rentals (Airbnb) and Implications for Local Zoning Regulations\, and Review of Recent Connecticut Land Use Case Law
DESCRIPTION:Attorneys Jacqueline O. Kaufman and Jason A. Klein will present on the Proliferation of Short Term Rentals (Airbnb) and Implications for Local Zoning Regulations and the Review of Recent Connecticut Land Use Case Law to the Fairfield Bar Association. \nThe sharing economy has impacted a variety of industries.  Short term rental companies\, such as Airbnb\, are changing the way people travel and use their homes.  This program will explore this concept\, and more\, including: \n\n\nWhat are the opportunities and challenges to residential property owners and single family neighborhoods posed by short term rentals?\nWhat are the impacts of short term rentals on density measurements?\nShould short term rentals arranged through services such as Airbnb be treated differently than private rentals?\nWhat lessons can be learned from other municipalities that have enacted short-term rental specific zoning regulations?\nHow can short term rentals work in our coastal communities?\nHow are zoning regulations impacted by short term rentals\, and are text changes necessary to regulate this use?\n\nFor more information and to register\, please click here.
URL:https://www.carmodylaw.com/event/proliferation-of-short-term-rentals-airbnb-and-implications-for-local-zoning-regulations-and-review-of-recent-connecticut-land-use-case-law/
LOCATION:CT
CATEGORIES:Land Use: Zoning,Permitting & Litigation
END:VEVENT
BEGIN:VEVENT
DTSTART;TZID=America/New_York:20170131T190000
DTEND;TZID=America/New_York:20170131T190000
DTSTAMP:20260421T061628
CREATED:20180510T235328Z
LAST-MODIFIED:20180510T235328Z
UID:10000007-1485889200-1485889200@www.carmodylaw.com
SUMMARY:Webinar on Electronic Medical Records: Privacy\, Security and Legal Obligations
DESCRIPTION:Attorney Sherwin Yoder held a webinar presentation for an international nonprofit organization on Electronic Medical Records: Privacy\, Security and Legal Obligations.
URL:https://www.carmodylaw.com/event/webinar-on-electronic-medical-records-privacy-security-and-legal-obligations/
LOCATION:CT
CATEGORIES:Privacy & Data Security
END:VEVENT
BEGIN:VEVENT
DTSTART;TZID=America/New_York:20170125T190000
DTEND;TZID=America/New_York:20170126T190000
DTSTAMP:20260421T061628
CREATED:20180510T235326Z
LAST-MODIFIED:20180510T235326Z
UID:10000003-1485370800-1485457200@www.carmodylaw.com
SUMMARY:American Conference Institute's National Forum on Wage and Hour Claims and Class Actions
DESCRIPTION:Class Certification Developments…Joint Employer Liability…Misclassification and Exempt Employee Determinations… FLSA Revisions to White Collar Exemption Requirements… Off-the-Clock Claims… Minimum Wage Violations… THE LIST GOES ON \nIt has never been more essential to be well versed in all the new nuances involved in defending against and managing the latest wage and hour claims and class actions. Come join your colleagues and clients at the nation’s premier wage and hour forum and hone your skills and strategies needed to keep pace with this rapidly changing area of law\, manage and defend against new and innovative claims\, and prepare for emerging regulations and evolving enforcement priorities. \nAmerican Conference Institute’s 26th National Forum on Wage & Hour Claims and Class Actions will provide you with an unparalleled opportunity to convene with expert in-house counsel from Jos. A. Bank Clothiers\, Bank of America\, Nordstrom\, Interval Leisure Group\, Boehringer Ingelheim\, Family Dollar Stores\, Masco Corporation\, Canam Steel Corporation\, PSEG Services\, Equifax\, Marsh & McLennan\, Allied World Insurance\, Nordstrom\, Allegis Group and more\, as well as renowned federal and state judges\, and leading outside counsel from around the nation\, who will provide you with expert advice\, insider strategies\, and comprehensive updates on: \n\nWage and hour year in review: analyzing the key wage & hour case law\ndevelopments and DOL initiatives of 2015\, and what they mean for your practice in 2016\nThe Latest on DOL white collar exemption changes: analyzing the practical implications of the new rules & strategies for minimizing litigation risks\nJoint employer liability under the wage and hour laws: the implications of the NLRB Browning-Ferris decision on the wage and hour landscape\nThe latest claims arising out of minimum and prevailing wage violations\, improper tip and tip credit practices\, state paid sick leave & scheduling laws\nThe role of an economic expert in measuring and demonstrating damages in wage and hour class actions\nWinning strategies for handling class & collective wage and hour actions\nEthical issues in wage & hour litigation and settlement\nPreparing for and surviving a DOL audit and aggressive investigations by\nstate equivalents\nThe latest DOL guidance on independent contractor vs. employee; and defending federal and state claims involving the improper labeling of exempt/non-exempt employees by key industry\nThe expanding utility of wage & hour insurance\nCompensable time in the modern day workplace – defending and managing the latest off-the-clock claims relating to employee use of blackberry’s/mobile devices\, BYOD policies & working remotely\n\nRegister early by calling 1-888-224-2480\, faxing your registration form to 1-877-927-1563.
URL:https://www.carmodylaw.com/event/american-conference-institutes-national-forum-on-wage-and-hour-claims-and-class-actions/
LOCATION:CT
END:VEVENT
BEGIN:VEVENT
DTSTART;TZID=America/New_York:20170125T190000
DTEND;TZID=America/New_York:20170125T190000
DTSTAMP:20260421T061628
CREATED:20180510T235327Z
LAST-MODIFIED:20180510T235327Z
UID:10000005-1485370800-1485370800@www.carmodylaw.com
SUMMARY:CT Small and Diversity Suppliers:  Is Your Company Ready to Win Contracts with Large Buyers?
DESCRIPTION:Using Supplier-Connection.net to build business \nHosted by Carmody Torrance Sandak & Hennessey LLP\, Small Manufacturers Association of CT\, Inc. and The Business Council of Fairfield County\, this special event for small and diversity suppliers in Connecticut will focus on a new initiative that can help you win contracts and bid on new business opportunities from some of the U.S.'s largest firms – IBM\, Pitney Bowes\, AT&T\, UIL\, DuPont\, Pfizer and over 30 others. Come hear from experts and network with other suppliers and buyers.  \nSpeakers include: \n\nJay Wesley\, Head of Global Supplier Diversity and Performance at Pitney Bowes Inc.\nGary Breitbart\, Head of CT Supplier Connection\n\nLearn how Supplier-Connection can help build your business: \n\nOverview of the network\, its features and support tools\nGet your company registered on the network\nHear how small and diverse suppliers have used Supplier-Connection.net to win new business\n\nThis workshop is for: \n\nConnecticut based suppliers seeking to grow their business\nCEOs\, head of marketing and sales\, others interested in strengthening supply chain activities.\n\nThis is a free event taking place at Carmody Torrance Sandak & Hennessey's Waterbury office.  For parking information and to register\, please click here.
URL:https://www.carmodylaw.com/event/ct-small-and-diversity-suppliers-is-your-company-ready-to-win-contracts-with-large-buyers/
LOCATION:CT
END:VEVENT
END:VCALENDAR