BEGIN:VCALENDAR
VERSION:2.0
PRODID:-//Carmody Law - ECPv6.15.20//NONSGML v1.0//EN
CALSCALE:GREGORIAN
METHOD:PUBLISH
X-ORIGINAL-URL:https://www.carmodylaw.com
X-WR-CALDESC:Events for Carmody Law
REFRESH-INTERVAL;VALUE=DURATION:PT1H
X-Robots-Tag:noindex
X-PUBLISHED-TTL:PT1H
BEGIN:VTIMEZONE
TZID:America/New_York
BEGIN:DAYLIGHT
TZOFFSETFROM:-0500
TZOFFSETTO:-0400
TZNAME:EDT
DTSTART:20240310T070000
END:DAYLIGHT
BEGIN:STANDARD
TZOFFSETFROM:-0400
TZOFFSETTO:-0500
TZNAME:EST
DTSTART:20241103T060000
END:STANDARD
BEGIN:DAYLIGHT
TZOFFSETFROM:-0500
TZOFFSETTO:-0400
TZNAME:EDT
DTSTART:20250309T070000
END:DAYLIGHT
BEGIN:STANDARD
TZOFFSETFROM:-0400
TZOFFSETTO:-0500
TZNAME:EST
DTSTART:20251102T060000
END:STANDARD
BEGIN:DAYLIGHT
TZOFFSETFROM:-0500
TZOFFSETTO:-0400
TZNAME:EDT
DTSTART:20260308T070000
END:DAYLIGHT
BEGIN:STANDARD
TZOFFSETFROM:-0400
TZOFFSETTO:-0500
TZNAME:EST
DTSTART:20261101T060000
END:STANDARD
END:VTIMEZONE
BEGIN:VEVENT
DTSTART;TZID=America/New_York:20250618T180000
DTEND;TZID=America/New_York:20250618T203000
DTSTAMP:20260423T093539
CREATED:20250612T205017Z
LAST-MODIFIED:20250612T205110Z
UID:10000427-1750269600-1750278600@www.carmodylaw.com
SUMMARY:Case Law Update
DESCRIPTION:Come to learn about significant land use cases from the past year. Carmody Land Use associate Daniel Chapple will present a “Case Law Update” for the Connecticut Bar Association‘s upcoming Planning and Zoning Section Meeting. \nRegister now.
URL:https://www.carmodylaw.com/event/case-law-update/
LOCATION:Cafe Amici\, 1640 Whitney Avenue\, Hamden\, CT\, 06517\, United States
CATEGORIES:Land Use,Land Use: Zoning
END:VEVENT
BEGIN:VEVENT
DTSTART;TZID=America/New_York:20250322T090000
DTEND;TZID=America/New_York:20250322T163000
DTSTAMP:20260423T093539
CREATED:20250311T143733Z
LAST-MODIFIED:20250311T144307Z
UID:10000419-1742634000-1742661000@www.carmodylaw.com
SUMMARY:2025 CT Land Use Law for Municipal Land Use Agencies\, Boards\, Commissions
DESCRIPTION:Carmody Real Estate & Land Use partner Jason Klein will be presenting for a panel discussion covering “Options for Expanding Housing Opportunities” during the Connecticut Bar Association’s “2025 CT Land Use Law for Municipal Land Use Agencies\, Boards\, Commissions” virtual seminar. Jason will be sharing policies communities can adopt to build more homes of all types across Connecticut. \nThe “2025 CT Land Use Law for Municipal Land Use Agencies\, Boards\, Commissions” is an introductory level course that will focus on topics of immediate concern to all municipal land use agencies\, boards\, commissions\, and their staffs. The topics reflect both timely and practical situations\, confronting participants at every level of the municipal land use process. This course will provide a broad review of the municipal land use process\, including zoning\, planning\, zoning board of appeals\, and wetlands issues. \nMembers of municipal land use agencies\, boards\, and commissions\, as well as municipal planners\, enforcement officers\, and engineers will benefit from this full day course. \nRegister here.
URL:https://www.carmodylaw.com/event/2025-ct-land-use-law-for-municipal-land-use-agencies-boards-commissions/
LOCATION:Virtual
CATEGORIES:Land Use
END:VEVENT
END:VCALENDAR