BEGIN:VCALENDAR
VERSION:2.0
PRODID:-//Carmody Law - ECPv6.15.20//NONSGML v1.0//EN
CALSCALE:GREGORIAN
METHOD:PUBLISH
X-WR-CALNAME:Carmody Law
X-ORIGINAL-URL:https://www.carmodylaw.com
X-WR-CALDESC:Events for Carmody Law
REFRESH-INTERVAL;VALUE=DURATION:PT1H
X-Robots-Tag:noindex
X-PUBLISHED-TTL:PT1H
BEGIN:VTIMEZONE
TZID:America/New_York
BEGIN:DAYLIGHT
TZOFFSETFROM:-0500
TZOFFSETTO:-0400
TZNAME:EDT
DTSTART:20250309T070000
END:DAYLIGHT
BEGIN:STANDARD
TZOFFSETFROM:-0400
TZOFFSETTO:-0500
TZNAME:EST
DTSTART:20251102T060000
END:STANDARD
BEGIN:DAYLIGHT
TZOFFSETFROM:-0500
TZOFFSETTO:-0400
TZNAME:EDT
DTSTART:20260308T070000
END:DAYLIGHT
BEGIN:STANDARD
TZOFFSETFROM:-0400
TZOFFSETTO:-0500
TZNAME:EST
DTSTART:20261101T060000
END:STANDARD
BEGIN:DAYLIGHT
TZOFFSETFROM:-0500
TZOFFSETTO:-0400
TZNAME:EDT
DTSTART:20270314T070000
END:DAYLIGHT
BEGIN:STANDARD
TZOFFSETFROM:-0400
TZOFFSETTO:-0500
TZNAME:EST
DTSTART:20271107T060000
END:STANDARD
END:VTIMEZONE
BEGIN:VEVENT
DTSTART;TZID=America/New_York:20260429T130000
DTEND;TZID=America/New_York:20260429T140000
DTSTAMP:20260422T083400
CREATED:20260421T180829Z
LAST-MODIFIED:20260421T180829Z
UID:10000444-1777467600-1777471200@www.carmodylaw.com
SUMMARY:HR Hotline Live: Pregnancy in the Workplace
DESCRIPTION:Navigating federal and state pregnancy laws can be complex. From the Pregnant Workers Fairness Act and the ADA to Connecticut’s protections for pregnant and lactating employees and new parents\, compliance is essential. Missteps can lead to costly discrimination claims and legal compliance is only part of the equation. \nCarmody Labor & Employment partners Vincent Farisello and Nick Zaino will go beyond what the law requires to focus on how to implement policies that both protect your business and support employees. \nTopics include: \n\nRequired workplace accommodations\nAligning maternity policies with Connecticut’s Paid Family Leave program\nWhen pregnancy-related conditions are considered disabilities\nCommon compliance mistakes that lead to discrimination claims\nCommunicating with employees during and after pregnancy\n\nRegister here.
URL:https://www.carmodylaw.com/event/hr-hotline-live-pregnancy-in-the-workplace/
LOCATION:Virtual
CATEGORIES:Labor & Employment
END:VEVENT
END:VCALENDAR