BEGIN:VCALENDAR
VERSION:2.0
PRODID:-//Carmody Law - ECPv6.15.20//NONSGML v1.0//EN
CALSCALE:GREGORIAN
METHOD:PUBLISH
X-WR-CALNAME:Carmody Law
X-ORIGINAL-URL:https://www.carmodylaw.com
X-WR-CALDESC:Events for Carmody Law
REFRESH-INTERVAL;VALUE=DURATION:PT1H
X-Robots-Tag:noindex
X-PUBLISHED-TTL:PT1H
BEGIN:VTIMEZONE
TZID:America/New_York
BEGIN:DAYLIGHT
TZOFFSETFROM:-0500
TZOFFSETTO:-0400
TZNAME:EDT
DTSTART:20250309T070000
END:DAYLIGHT
BEGIN:STANDARD
TZOFFSETFROM:-0400
TZOFFSETTO:-0500
TZNAME:EST
DTSTART:20251102T060000
END:STANDARD
BEGIN:DAYLIGHT
TZOFFSETFROM:-0500
TZOFFSETTO:-0400
TZNAME:EDT
DTSTART:20260308T070000
END:DAYLIGHT
BEGIN:STANDARD
TZOFFSETFROM:-0400
TZOFFSETTO:-0500
TZNAME:EST
DTSTART:20261101T060000
END:STANDARD
BEGIN:DAYLIGHT
TZOFFSETFROM:-0500
TZOFFSETTO:-0400
TZNAME:EDT
DTSTART:20270314T070000
END:DAYLIGHT
BEGIN:STANDARD
TZOFFSETFROM:-0400
TZOFFSETTO:-0500
TZNAME:EST
DTSTART:20271107T060000
END:STANDARD
END:VTIMEZONE
BEGIN:VEVENT
DTSTART;TZID=America/New_York:20260129T100000
DTEND;TZID=America/New_York:20260129T110000
DTSTAMP:20260422T102504
CREATED:20260128T215014Z
LAST-MODIFIED:20260129T181254Z
UID:10000439-1769680800-1769684400@www.carmodylaw.com
SUMMARY:January 2026 Human Resources Council Meeting
DESCRIPTION:Labor & Employment partners Vincent Farisello and Nick Zaino will lead a virtual discussion on common wage and hour issues that employers face for the Waterbury Regional Chamber. \nThe presentation will address the “white collar” exemptions from overtime\, what constitutes hours worked\, meal breaks\, properly calculating overtime\, and other wage payment issues. \nThis program will be submitted for SHRM recertification credit. \nRegister here.
URL:https://www.carmodylaw.com/event/january-2026-human-resources-council-meeting/
LOCATION:Virtual
CATEGORIES:Employee Benefits & Compensation,Labor & Employment,Workers' Compensation
ORGANIZER;CN="Waterbury Regional Chamber's Human Resources Council":MAILTO:mallen@waterburychamber.com
END:VEVENT
END:VCALENDAR