BEGIN:VCALENDAR
VERSION:2.0
PRODID:-//Carmody Law - ECPv6.15.20//NONSGML v1.0//EN
CALSCALE:GREGORIAN
METHOD:PUBLISH
X-ORIGINAL-URL:https://www.carmodylaw.com
X-WR-CALDESC:Events for Carmody Law
REFRESH-INTERVAL;VALUE=DURATION:PT1H
X-Robots-Tag:noindex
X-PUBLISHED-TTL:PT1H
BEGIN:VTIMEZONE
TZID:America/New_York
BEGIN:DAYLIGHT
TZOFFSETFROM:-0500
TZOFFSETTO:-0400
TZNAME:EDT
DTSTART:20210314T070000
END:DAYLIGHT
BEGIN:STANDARD
TZOFFSETFROM:-0400
TZOFFSETTO:-0500
TZNAME:EST
DTSTART:20211107T060000
END:STANDARD
BEGIN:DAYLIGHT
TZOFFSETFROM:-0500
TZOFFSETTO:-0400
TZNAME:EDT
DTSTART:20220313T070000
END:DAYLIGHT
BEGIN:STANDARD
TZOFFSETFROM:-0400
TZOFFSETTO:-0500
TZNAME:EST
DTSTART:20221106T060000
END:STANDARD
BEGIN:DAYLIGHT
TZOFFSETFROM:-0500
TZOFFSETTO:-0400
TZNAME:EDT
DTSTART:20230312T070000
END:DAYLIGHT
BEGIN:STANDARD
TZOFFSETFROM:-0400
TZOFFSETTO:-0500
TZNAME:EST
DTSTART:20231105T060000
END:STANDARD
END:VTIMEZONE
BEGIN:VEVENT
DTSTART;TZID=America/New_York:20220518T080000
DTEND;TZID=America/New_York:20220518T090000
DTSTAMP:20260423T141505
CREATED:20220413T233056Z
LAST-MODIFIED:20220413T233056Z
UID:10000225-1652860800-1652864400@www.carmodylaw.com
SUMMARY:Top Corporate Governance Issues for Nonprofits
DESCRIPTION:Join a panel of Carmody attorneys\, via WebEx\, for a practical overview of the most significant corporate governance issues facing nonprofit organizations\, how to navigate the challenges and successfully achieve your organization’s goals. \nAvoid common governance pitfalls: \n\nUnderstand the annual filings a nonprofit must make to ensure compliance with federal and state law.\nGet updated on changes to the Connecticut Solicitation of Charitable Funds Act.\nEnsure the nonprofit’s bylaws are keeping up with the organization.\nLearn about conflicts of interest and steps the board should take to avoid them.\nKnow when – and what – information must be disclosed for public inspection.\nGet helpful pointers for taking and maintaining minutes of board meetings.\n\n\nClick here to register.
URL:https://www.carmodylaw.com/event/top-corporate-governance-issues-for-nonprofits/
LOCATION:Online
END:VEVENT
END:VCALENDAR