BEGIN:VCALENDAR
VERSION:2.0
PRODID:-//Carmody Law - ECPv6.15.20//NONSGML v1.0//EN
CALSCALE:GREGORIAN
METHOD:PUBLISH
X-ORIGINAL-URL:https://www.carmodylaw.com
X-WR-CALDESC:Events for Carmody Law
REFRESH-INTERVAL;VALUE=DURATION:PT1H
X-Robots-Tag:noindex
X-PUBLISHED-TTL:PT1H
BEGIN:VTIMEZONE
TZID:America/New_York
BEGIN:DAYLIGHT
TZOFFSETFROM:-0500
TZOFFSETTO:-0400
TZNAME:EDT
DTSTART:20200308T070000
END:DAYLIGHT
BEGIN:STANDARD
TZOFFSETFROM:-0400
TZOFFSETTO:-0500
TZNAME:EST
DTSTART:20201101T060000
END:STANDARD
BEGIN:DAYLIGHT
TZOFFSETFROM:-0500
TZOFFSETTO:-0400
TZNAME:EDT
DTSTART:20210314T070000
END:DAYLIGHT
BEGIN:STANDARD
TZOFFSETFROM:-0400
TZOFFSETTO:-0500
TZNAME:EST
DTSTART:20211107T060000
END:STANDARD
BEGIN:DAYLIGHT
TZOFFSETFROM:-0500
TZOFFSETTO:-0400
TZNAME:EDT
DTSTART:20220313T070000
END:DAYLIGHT
BEGIN:STANDARD
TZOFFSETFROM:-0400
TZOFFSETTO:-0500
TZNAME:EST
DTSTART:20221106T060000
END:STANDARD
END:VTIMEZONE
BEGIN:VEVENT
DTSTART;TZID=America/New_York:20210920T090000
DTEND;TZID=America/New_York:20210920T103000
DTSTAMP:20260423T111409
CREATED:20210827T231714Z
LAST-MODIFIED:20210827T231714Z
UID:10000204-1632128400-1632133800@www.carmodylaw.com
SUMMARY:New Laws Impacting Connecticut Employers – What You Need To Know
DESCRIPTION:Tim Klimpl will be moderating “New Laws Impacting Connecticut Employers – What you Need to Know” for the Fairfield County Bar Association. \nAbout the Program  \nThe Connecticut General Assembly recently enacted a number of significant employment laws at the end of its recent regular and special sessions that will dramatically affect our state. This program will highlight the most prominent legislation passed\, and provide important updates on what employers need to know. Topics will include\, among others: \n\nMandatory Salary Range Disclosure for Applicants and Employees\nNew Sex Wage Discrimination Standard: Moving from “Equal” to “Comparable” Work\nCovid Recall-by-Seniority Law for Certain Employees Laid Off in the Hotel\, Food Service and Building Service Industries\nNew Workplace Rules for Regulating Recreational Marijuana\nNew Breastfeeding Guidelines\nThe CROWN ACT- “Creating A Respectful And Open World For Natural Hair” – Protection Again Discrimination Based on Race-Based Hair Styles\n\nClick here to register. 
URL:https://www.carmodylaw.com/event/new-laws-impacting-connecticut-employers-what-you-need-to-know/
LOCATION:Online
ORGANIZER;CN="Fairfield County Bar Association":MAILTO:office@fairfieldbar.org
END:VEVENT
END:VCALENDAR