BEGIN:VCALENDAR
VERSION:2.0
PRODID:-//Carmody Law - ECPv6.15.20//NONSGML v1.0//EN
CALSCALE:GREGORIAN
METHOD:PUBLISH
X-ORIGINAL-URL:https://www.carmodylaw.com
X-WR-CALDESC:Events for Carmody Law
REFRESH-INTERVAL;VALUE=DURATION:PT1H
X-Robots-Tag:noindex
X-PUBLISHED-TTL:PT1H
BEGIN:VTIMEZONE
TZID:America/New_York
BEGIN:DAYLIGHT
TZOFFSETFROM:-0500
TZOFFSETTO:-0400
TZNAME:EDT
DTSTART:20200308T070000
END:DAYLIGHT
BEGIN:STANDARD
TZOFFSETFROM:-0400
TZOFFSETTO:-0500
TZNAME:EST
DTSTART:20201101T060000
END:STANDARD
BEGIN:DAYLIGHT
TZOFFSETFROM:-0500
TZOFFSETTO:-0400
TZNAME:EDT
DTSTART:20210314T070000
END:DAYLIGHT
BEGIN:STANDARD
TZOFFSETFROM:-0400
TZOFFSETTO:-0500
TZNAME:EST
DTSTART:20211107T060000
END:STANDARD
BEGIN:DAYLIGHT
TZOFFSETFROM:-0500
TZOFFSETTO:-0400
TZNAME:EDT
DTSTART:20220313T070000
END:DAYLIGHT
BEGIN:STANDARD
TZOFFSETFROM:-0400
TZOFFSETTO:-0500
TZNAME:EST
DTSTART:20221106T060000
END:STANDARD
END:VTIMEZONE
BEGIN:VEVENT
DTSTART;TZID=America/New_York:20210917T043000
DTEND;TZID=America/New_York:20210917T063000
DTSTAMP:20260425T114927
CREATED:20210329T192656Z
LAST-MODIFIED:20210329T192656Z
UID:10000192-1631853000-1631860200@www.carmodylaw.com
SUMMARY:Sexual Harassment Prevention Training
DESCRIPTION:Connecticut law requires nearly every employer to provide sexual harassment prevention training for all employees\, including supervisors and non-supervisory employees. For more information on the new law\, click here. \nJoin us on Friday\, September 17 from 8:30 a.m. – 10:30 a.m. \nPresented virtually via WebEx and On-Demand (upon request) \n$25 per person \nClick here to register \nThese seminars comply with Connecticut’s training requirements\, and we will provide written confirmation to your attendees upon completion of the session. \nFor questions\, please contact Romania Jawahir at 203.784.3169 or rjawahir@carmodylaw.com.
URL:https://www.carmodylaw.com/event/sexual-harassment-prevention-training-4/
LOCATION:CT
CATEGORIES:Labor & Employment
END:VEVENT
END:VCALENDAR