BEGIN:VCALENDAR
VERSION:2.0
PRODID:-//Carmody Law - ECPv6.15.20//NONSGML v1.0//EN
CALSCALE:GREGORIAN
METHOD:PUBLISH
X-ORIGINAL-URL:https://www.carmodylaw.com
X-WR-CALDESC:Events for Carmody Law
REFRESH-INTERVAL;VALUE=DURATION:PT1H
X-Robots-Tag:noindex
X-PUBLISHED-TTL:PT1H
BEGIN:VTIMEZONE
TZID:America/New_York
BEGIN:DAYLIGHT
TZOFFSETFROM:-0500
TZOFFSETTO:-0400
TZNAME:EDT
DTSTART:20160313T070000
END:DAYLIGHT
BEGIN:STANDARD
TZOFFSETFROM:-0400
TZOFFSETTO:-0500
TZNAME:EST
DTSTART:20161106T060000
END:STANDARD
BEGIN:DAYLIGHT
TZOFFSETFROM:-0500
TZOFFSETTO:-0400
TZNAME:EDT
DTSTART:20170312T070000
END:DAYLIGHT
BEGIN:STANDARD
TZOFFSETFROM:-0400
TZOFFSETTO:-0500
TZNAME:EST
DTSTART:20171105T060000
END:STANDARD
BEGIN:DAYLIGHT
TZOFFSETFROM:-0500
TZOFFSETTO:-0400
TZNAME:EDT
DTSTART:20180311T070000
END:DAYLIGHT
BEGIN:STANDARD
TZOFFSETFROM:-0400
TZOFFSETTO:-0500
TZNAME:EST
DTSTART:20181104T060000
END:STANDARD
END:VTIMEZONE
BEGIN:VEVENT
DTSTART;TZID=America/New_York:20170801T140000
DTEND;TZID=America/New_York:20170801T140000
DTSTAMP:20260423T072513
CREATED:20180510T235335Z
LAST-MODIFIED:20180510T235335Z
UID:10000028-1501596000-1501596000@www.carmodylaw.com
SUMMARY:Shakespeare Academy — The Mighty Quinn Foundation: The Bard and Bubbly
DESCRIPTION:Join the Mighty Quinn Foundation and the Shakespeare Academy for Champagne and appetizers in the Lobby of the iconic Shakespeare Theater\, August 1st. Both the event and the play are free to all who are invited. \n6:00 PM  Shakespeare Theater   1850 Elm Street  Stratford\, CT 06615 \nSpace is limited\, so please contact Chelsea Geffert at cgeffert@carmodylaw.com for an invitation.
URL:https://www.carmodylaw.com/event/shakespeare-academy-the-mighty-quinn-foundation-the-bard-and-bubbly/
END:VEVENT
END:VCALENDAR