BEGIN:VCALENDAR
VERSION:2.0
PRODID:-//Carmody Law - ECPv6.15.20//NONSGML v1.0//EN
CALSCALE:GREGORIAN
METHOD:PUBLISH
X-WR-CALNAME:Carmody Law
X-ORIGINAL-URL:https://www.carmodylaw.com
X-WR-CALDESC:Events for Carmody Law
REFRESH-INTERVAL;VALUE=DURATION:PT1H
X-Robots-Tag:noindex
X-PUBLISHED-TTL:PT1H
BEGIN:VTIMEZONE
TZID:America/New_York
BEGIN:DAYLIGHT
TZOFFSETFROM:-0500
TZOFFSETTO:-0400
TZNAME:EDT
DTSTART:20160313T070000
END:DAYLIGHT
BEGIN:STANDARD
TZOFFSETFROM:-0400
TZOFFSETTO:-0500
TZNAME:EST
DTSTART:20161106T060000
END:STANDARD
BEGIN:DAYLIGHT
TZOFFSETFROM:-0500
TZOFFSETTO:-0400
TZNAME:EDT
DTSTART:20170312T070000
END:DAYLIGHT
BEGIN:STANDARD
TZOFFSETFROM:-0400
TZOFFSETTO:-0500
TZNAME:EST
DTSTART:20171105T060000
END:STANDARD
BEGIN:DAYLIGHT
TZOFFSETFROM:-0500
TZOFFSETTO:-0400
TZNAME:EDT
DTSTART:20180311T070000
END:DAYLIGHT
BEGIN:STANDARD
TZOFFSETFROM:-0400
TZOFFSETTO:-0500
TZNAME:EST
DTSTART:20181104T060000
END:STANDARD
END:VTIMEZONE
BEGIN:VEVENT
DTSTART;TZID=America/New_York:20170726T140000
DTEND;TZID=America/New_York:20170726T150000
DTSTAMP:20260421T060130
CREATED:20180510T235333Z
LAST-MODIFIED:20180510T235333Z
UID:10000022-1501077600-1501081200@www.carmodylaw.com
SUMMARY:Janie McDermott\, Associate\, to present on estate planning at the Litchfield Community Center
DESCRIPTION:Janie McDermott\, Associate at Carmody Torrance Sandak & Hennessey LLP\, will explore the myths surrounding estate planning and the probate process\, especially for parents with children still living at home.  She will also introduce attendees to the three most important documents every adult should own\, and how each provides protection when faced with death or disability.  \nThe presentation will be from 6:00 – 7:00 p.m. and it is open to the public. \n \nFor more information and to RSVP\, please contact Chelsea Geffert at cgeffert@carmodylaw.com or 203-784-3114.
URL:https://www.carmodylaw.com/event/janie-mcdermott-associate-to-present-on-estate-planning-at-the-litchfield-community-center/
LOCATION:CT
END:VEVENT
END:VCALENDAR